BEGIN:VCALENDAR
VERSION:2.0
PRODID:-//Familienportal - ECPv6.15.20//NONSGML v1.0//EN
CALSCALE:GREGORIAN
METHOD:PUBLISH
X-WR-CALNAME:Familienportal
X-ORIGINAL-URL:https://familienportal-bamberg.de
X-WR-CALDESC:Veranstaltungen für Familienportal
REFRESH-INTERVAL;VALUE=DURATION:PT1H
X-Robots-Tag:noindex
X-PUBLISHED-TTL:PT1H
BEGIN:VTIMEZONE
TZID:Europe/Berlin
BEGIN:DAYLIGHT
TZOFFSETFROM:+0100
TZOFFSETTO:+0200
TZNAME:CEST
DTSTART:20250330T010000
END:DAYLIGHT
BEGIN:STANDARD
TZOFFSETFROM:+0200
TZOFFSETTO:+0100
TZNAME:CET
DTSTART:20251026T010000
END:STANDARD
BEGIN:DAYLIGHT
TZOFFSETFROM:+0100
TZOFFSETTO:+0200
TZNAME:CEST
DTSTART:20260329T010000
END:DAYLIGHT
BEGIN:STANDARD
TZOFFSETFROM:+0200
TZOFFSETTO:+0100
TZNAME:CET
DTSTART:20261025T010000
END:STANDARD
BEGIN:DAYLIGHT
TZOFFSETFROM:+0100
TZOFFSETTO:+0200
TZNAME:CEST
DTSTART:20270328T010000
END:DAYLIGHT
BEGIN:STANDARD
TZOFFSETFROM:+0200
TZOFFSETTO:+0100
TZNAME:CET
DTSTART:20271031T010000
END:STANDARD
END:VTIMEZONE
BEGIN:VEVENT
DTSTART;TZID=Europe/Berlin:20260422T173000
DTEND;TZID=Europe/Berlin:20260422T190000
DTSTAMP:20260424T150458
CREATED:20260317T155326Z
LAST-MODIFIED:20260317T155326Z
UID:10003463-1776879000-1776884400@familienportal-bamberg.de
SUMMARY:Bamberg: Neuer Buchclub
DESCRIPTION:Ein gutes Buch liest man allein – noch schöner wird es\, wenn man darüber sprechen kann! Im Quartiersbüro startet ein neuer Buchclub für alle Interessierte\, die Freude am Lesen und am gemeinsamen Austausch haben. Beim ersten Treffen lernen wir uns kennen\, erzählen von unseren Lieblingsbüchern und entscheiden gemeinsam\, welchen Titel wir als erstes lesen möchten. Ob Roman\, Lebensgeschichte oder zeitgenössische Literatur – die Auswahl treffen wir zusammen. Der Buchclub findet in gemütlicher Atmosphäre statt und bietet Raum für unterschiedliche Perspektiven\, lebendige Gespräche und neue Begegnungen im Stadtteil. Die Gruppe ist auf maximal 8 Teilnehmende begrenzt. Wir freuen uns auf alle\, die Lust haben\, mit uns zwischen zwei Buchdeckeln auf Entdeckungsreise zu gehen! \nAnmeldung erforderlich!\nTelefon: 0951 96439147\nE-Mail: quartiersbuero.tivolischloesschen@sozialstiftung-bamberg.de
URL:https://familienportal-bamberg.de/veranstaltungen/bamberg-neuer-buchclub/
LOCATION:Quartiersbüro am Tivolischlösschen\, Tivoli Aktiv\, Kloster-Langheim-Str. 3\, Bamberg\, 96050
CATEGORIES:Veranstaltungen & Termine
ATTACH;FMTTYPE=image/jpeg:https://familienportal-bamberg.de/wp-content/uploads/2026/03/69b96ea1b47ec.jpg
END:VEVENT
BEGIN:VEVENT
DTSTART;TZID=Europe/Berlin:20260421T170000
DTEND;TZID=Europe/Berlin:20260421T190000
DTSTAMP:20260424T150458
CREATED:20260322T095718Z
LAST-MODIFIED:20260322T095718Z
UID:10003467-1776790800-1776798000@familienportal-bamberg.de
SUMMARY:Bamberg: Männerangebot
DESCRIPTION:Bei Bratwurst\, Brot und Bier wollen wir ins Gespräch kommen. \nAnmeldung erforderlich\, bitte bis zum 17.04.26 anmelden!\nTelefon: 0951 96439147\nE-Mail: quartiersbuero.tivolischloesschen@sozialstiftung-bamberg.de
URL:https://familienportal-bamberg.de/veranstaltungen/bamberg-maennerangebot/
LOCATION:Quartiersbüro am Tivolischlösschen\, Tivoli Aktiv\, Kloster-Langheim-Str. 3\, Bamberg\, 96050
CATEGORIES:Veranstaltungen & Termine
ATTACH;FMTTYPE=image/png:https://familienportal-bamberg.de/wp-content/uploads/2026/03/69bd1cb6c51af.png
END:VEVENT
BEGIN:VEVENT
DTSTART;TZID=Europe/Berlin:20260421T131500
DTEND;TZID=Europe/Berlin:20260421T134500
DTSTAMP:20260424T150458
CREATED:20260331T185022Z
LAST-MODIFIED:20260331T185104Z
UID:10003479-1776777300-1776779100@familienportal-bamberg.de
SUMMARY:Bamberg: Bewegungsübungen im Sitzen
DESCRIPTION:Sitzgymnastik ist das perfekte Bewegungsangebot für Menschen\, die auch im Alter beweglich bleiben möchten. Wie der Name schon sagt\, finden die meisten Übungen im Sitzen statt. Bleiben Sie auch im Alter fit und aktiv! \nAnmeldung erforderlich!\nTelefon: 0951 96439147\nE-Mail: quartiersbuero.tivolischloesschen@sozialstiftung-bamberg.de
URL:https://familienportal-bamberg.de/veranstaltungen/bamberg-bewegungsuebungen-im-sitzen-2/2026-04-21/
LOCATION:Quartiersbüro am Tivolischlösschen\, Tivoli Aktiv\, Kloster-Langheim-Str. 3\, Bamberg\, 96050
CATEGORIES:Veranstaltungen & Termine
ATTACH;FMTTYPE=image/jpeg:https://familienportal-bamberg.de/wp-content/uploads/2026/03/69bd18bd86316-scaled.jpg
END:VEVENT
BEGIN:VEVENT
DTSTART;TZID=Europe/Berlin:20260413T150000
DTEND;TZID=Europe/Berlin:20260413T160000
DTSTAMP:20260424T150458
CREATED:20260317T150635Z
LAST-MODIFIED:20260317T150635Z
UID:10003456-1776092400-1776096000@familienportal-bamberg.de
SUMMARY:Bamberg: Pflegesprechstunde im Café Tivoli Aktiv
DESCRIPTION:Unsere Pflegelotsin ist im Café Tivoli Aktiv für Sie da und offen für alle Anliegen rund um das Thema Pflege. Kommen Sie gerne für ein erstes Kennenlerngespräch vorbei!
URL:https://familienportal-bamberg.de/veranstaltungen/bamberg-pflegesprechstunde-im-cafe-tivoli-aktiv/
LOCATION:Quartiersbüro am Tivolischlösschen\, Tivoli Aktiv\, Kloster-Langheim-Str. 3\, Bamberg\, 96050
CATEGORIES:Veranstaltungen & Termine
ATTACH;FMTTYPE=image/jpeg:https://familienportal-bamberg.de/wp-content/uploads/2026/03/69b96c2e03795-scaled.jpg
END:VEVENT
BEGIN:VEVENT
DTSTART;TZID=Europe/Berlin:20260408T173000
DTEND;TZID=Europe/Berlin:20260408T190000
DTSTAMP:20260424T150458
CREATED:20260317T155506Z
LAST-MODIFIED:20260317T155506Z
UID:10003464-1775669400-1775674800@familienportal-bamberg.de
SUMMARY:Bamberg: Frauenkreis
DESCRIPTION:Du suchst einen Ort zum Reden\, Lachen und Vernetzen? Unser Frauenkreis ist ein offenes Wohnzimmer. Egal\, ob du 20 oder 80 bist\, ob du gerade erst hergezogen bist oder schon immer hier lebst: Komm einfach vorbei! Wir teilen Erfahrungen\, hören zu und lernen voneinander.
URL:https://familienportal-bamberg.de/veranstaltungen/bamberg-frauenkreis/
LOCATION:Quartiersbüro am Tivolischlösschen\, Tivoli Aktiv\, Kloster-Langheim-Str. 3\, Bamberg\, 96050
CATEGORIES:Veranstaltungen & Termine
ATTACH;FMTTYPE=image/jpeg:https://familienportal-bamberg.de/wp-content/uploads/2026/03/69b96dabb24b9-scaled.jpg
END:VEVENT
BEGIN:VEVENT
DTSTART;TZID=Europe/Berlin:20260407T131500
DTEND;TZID=Europe/Berlin:20260407T134500
DTSTAMP:20260424T150458
CREATED:20260322T095857Z
LAST-MODIFIED:20260322T095857Z
UID:10003468-1775567700-1775569500@familienportal-bamberg.de
SUMMARY:Bamberg: Bewegungsübungen im Sitzen
DESCRIPTION:Sitzgymnastik ist das perfekte Bewegungsangebot für Menschen\, die auch im Alter beweglich bleiben möchten. Wie der Name schon sagt\, finden die meisten Übungen im Sitzen statt. Bleiben Sie auch im Alter fit und aktiv! Bitte vorher anmelden. \nAnmeldung erforderlich!\nTelefon: 0951 96439147\nE-Mail: quartiersbuero.tivolischloesschen@sozialstiftung-bamberg.de
URL:https://familienportal-bamberg.de/veranstaltungen/bamberg-bewegungsuebungen-im-sitzen/
LOCATION:Quartiersbüro am Tivolischlösschen\, Tivoli Aktiv\, Kloster-Langheim-Str. 3\, Bamberg\, 96050
CATEGORIES:Veranstaltungen & Termine
ATTACH;FMTTYPE=image/jpeg:https://familienportal-bamberg.de/wp-content/uploads/2026/03/69bd18bd86316-scaled.jpg
END:VEVENT
END:VCALENDAR