BEGIN:VCALENDAR
VERSION:2.0
PRODID:-//Familienportal - ECPv6.15.20//NONSGML v1.0//EN
CALSCALE:GREGORIAN
METHOD:PUBLISH
X-WR-CALNAME:Familienportal
X-ORIGINAL-URL:https://familienportal-bamberg.de
X-WR-CALDESC:Veranstaltungen für Familienportal
REFRESH-INTERVAL;VALUE=DURATION:PT1H
X-Robots-Tag:noindex
X-PUBLISHED-TTL:PT1H
BEGIN:VTIMEZONE
TZID:Europe/Berlin
BEGIN:DAYLIGHT
TZOFFSETFROM:+0100
TZOFFSETTO:+0200
TZNAME:CEST
DTSTART:20250330T010000
END:DAYLIGHT
BEGIN:STANDARD
TZOFFSETFROM:+0200
TZOFFSETTO:+0100
TZNAME:CET
DTSTART:20251026T010000
END:STANDARD
BEGIN:DAYLIGHT
TZOFFSETFROM:+0100
TZOFFSETTO:+0200
TZNAME:CEST
DTSTART:20260329T010000
END:DAYLIGHT
BEGIN:STANDARD
TZOFFSETFROM:+0200
TZOFFSETTO:+0100
TZNAME:CET
DTSTART:20261025T010000
END:STANDARD
BEGIN:DAYLIGHT
TZOFFSETFROM:+0100
TZOFFSETTO:+0200
TZNAME:CEST
DTSTART:20270328T010000
END:DAYLIGHT
BEGIN:STANDARD
TZOFFSETFROM:+0200
TZOFFSETTO:+0100
TZNAME:CET
DTSTART:20271031T010000
END:STANDARD
END:VTIMEZONE
BEGIN:VEVENT
DTSTART;TZID=Europe/Berlin:20260526T091500
DTEND;TZID=Europe/Berlin:20260526T100000
DTSTAMP:20260423T115600
CREATED:20260418T061247Z
LAST-MODIFIED:20260418T061414Z
UID:10003526-1779786900-1779789600@familienportal-bamberg.de
SUMMARY:Bamberg: Fit im Kopf
DESCRIPTION:Haben Sie Lust\, Ihrem Gehirn „Beine zu machen“? Jeder kennt Vergesslichkeit im Alltag! Ziel des ganzheitlichen Konzentrationstrainings ist es\, alle Bereiche des Gehirns mit gezielten Spielen und Techniken sowie körperlicher Bewegunganzuregen. Das Training verbindet das Denken mit Bewegung und Freude am gemeinsamen Üben. Kursleitung ist Frau Monika Lang. \nAnmeldung erforderlich!\nTelefon: 0951 96439147\nE-Mail: quartiersbuero.tivolischloesschen@sozialstiftung-bamberg.de
URL:https://familienportal-bamberg.de/veranstaltungen/bamberg-fit-im-kopf-2/2026-05-26/
LOCATION:Quartiersbüro am Tivolischlösschen\, Café Tivoli Aktiv\, Kloster-Langheim-Str. 3\, Bamberg\, 96050
CATEGORIES:Veranstaltungen & Termine
ATTACH;FMTTYPE=image/jpeg:https://familienportal-bamberg.de/wp-content/uploads/2026/03/69b9724f260af-scaled.jpg
END:VEVENT
END:VCALENDAR