BEGIN:VCALENDAR
VERSION:2.0
PRODID:-//Familienportal - ECPv6.15.20//NONSGML v1.0//EN
CALSCALE:GREGORIAN
METHOD:PUBLISH
X-WR-CALNAME:Familienportal
X-ORIGINAL-URL:https://familienportal-bamberg.de
X-WR-CALDESC:Veranstaltungen für Familienportal
REFRESH-INTERVAL;VALUE=DURATION:PT1H
X-Robots-Tag:noindex
X-PUBLISHED-TTL:PT1H
BEGIN:VTIMEZONE
TZID:Europe/Berlin
BEGIN:DAYLIGHT
TZOFFSETFROM:+0100
TZOFFSETTO:+0200
TZNAME:CEST
DTSTART:20250330T010000
END:DAYLIGHT
BEGIN:STANDARD
TZOFFSETFROM:+0200
TZOFFSETTO:+0100
TZNAME:CET
DTSTART:20251026T010000
END:STANDARD
BEGIN:DAYLIGHT
TZOFFSETFROM:+0100
TZOFFSETTO:+0200
TZNAME:CEST
DTSTART:20260329T010000
END:DAYLIGHT
BEGIN:STANDARD
TZOFFSETFROM:+0200
TZOFFSETTO:+0100
TZNAME:CET
DTSTART:20261025T010000
END:STANDARD
BEGIN:DAYLIGHT
TZOFFSETFROM:+0100
TZOFFSETTO:+0200
TZNAME:CEST
DTSTART:20270328T010000
END:DAYLIGHT
BEGIN:STANDARD
TZOFFSETFROM:+0200
TZOFFSETTO:+0100
TZNAME:CET
DTSTART:20271031T010000
END:STANDARD
END:VTIMEZONE
BEGIN:VEVENT
DTSTART;TZID=Europe/Berlin:20260424T180000
DTEND;TZID=Europe/Berlin:20260424T210000
DTSTAMP:20260423T105600
CREATED:20260317T151808Z
LAST-MODIFIED:20260317T151808Z
UID:10003461-1777053600-1777064400@familienportal-bamberg.de
SUMMARY:Bamberg: Ladys Night
DESCRIPTION:Ladys Night – Kleiderbasar – im Schulhof der Montessori-Sekundarstufe in Bamberg\nEintritt frei\nStandgebühr: 10€ pro Tisch – 5€ für extra Freifläche oder zusätzlichen Kleiderständer\nTischreservierung unter jochen.ziegler@montessori-bamberg.de\nAnmeldeschluß: 12.04.2026
URL:https://familienportal-bamberg.de/veranstaltungen/bamberg-ladys-night/
LOCATION:Montessori Schule Bamberg\, Vorderer Bach 6\, Bamberg\, 96049
CATEGORIES:Basartermine
ATTACH;FMTTYPE=image/jpeg:https://familienportal-bamberg.de/wp-content/uploads/2026/03/69b5662919eab.jpg
END:VEVENT
BEGIN:VEVENT
DTSTART;TZID=Europe/Berlin:20260424T180000
DTEND;TZID=Europe/Berlin:20260424T210000
DTSTAMP:20260423T105600
CREATED:20260408T124856Z
LAST-MODIFIED:20260408T124856Z
UID:10003492-1777053600-1777064400@familienportal-bamberg.de
SUMMARY:Bamberg: Ladys Night
DESCRIPTION:Ladys Night – der ultimative Flohmarkt für und von Frauen – organisiert vom Elternbeirat der Montessori-Schule Bamberg e.V.
URL:https://familienportal-bamberg.de/veranstaltungen/bamberg-ladys-night-2/
LOCATION:Montessori Schule Bamberg\, Vorderer Bach 6\, Bamberg\, 96049
CATEGORIES:Basartermine
ATTACH;FMTTYPE=image/jpeg:https://familienportal-bamberg.de/wp-content/uploads/2026/04/69cf9bc3c7304.jpg
END:VEVENT
BEGIN:VEVENT
DTSTART;TZID=Europe/Berlin:20260424T183000
DTEND;TZID=Europe/Berlin:20260424T200000
DTSTAMP:20260423T105600
CREATED:20251229T173928Z
LAST-MODIFIED:20251229T173928Z
UID:10003307-1777055400-1777060800@familienportal-bamberg.de
SUMMARY:Scheßlitz: Bekleidung Basar Frühling/Sommer
DESCRIPTION:Bekleidung \nVerkauft werden Kinderbekleidung bis Gr. 164 für Frühjahr und Sommer\, Umstandskleidung\, Babyausstattung\, Autositze\, Kinderwagen usw.\nEinlass für Schwangere ab 18.00 Uhr mit Mutterpass und einer Begleitperson.\nWer gerne was verkaufen möchte kann sich Verkaufslisten ab Donnerstag 09.04.2026 bei Bäckerei / Cafe Schmittinger in Scheßlitz holen.\nAbgabe der Ware ist am Donnerstag 23.04.2026 von 19.00 Uhr bis 20.00 Uhr.\nAbholung der nicht verkauften Ware ist am Samstag 25.04.2026 von 9.30 Uhr bis 10.30 Uhr. \nWir freuen uns auf Euch!\nDie Eltern-Kind-Gruppen der Pfarrei St. Kilian Scheßlitz\nBildquelle: privat
URL:https://familienportal-bamberg.de/veranstaltungen/schesslitz-bekleidung-basar-fruehling-sommer/
LOCATION:Pfarrsaal Scheßlitz\, Oberend 2\, Scheßlitz\, 96110
CATEGORIES:Basartermine
ATTACH;FMTTYPE=image/jpeg:https://familienportal-bamberg.de/wp-content/uploads/2025/12/69516139c3d56.jpg
END:VEVENT
END:VCALENDAR