BEGIN:VCALENDAR
VERSION:2.0
PRODID:-//Familienportal - ECPv6.15.20//NONSGML v1.0//EN
CALSCALE:GREGORIAN
METHOD:PUBLISH
X-ORIGINAL-URL:https://familienportal-bamberg.de
X-WR-CALDESC:Veranstaltungen für Familienportal
REFRESH-INTERVAL;VALUE=DURATION:PT1H
X-Robots-Tag:noindex
X-PUBLISHED-TTL:PT1H
BEGIN:VTIMEZONE
TZID:Europe/Berlin
BEGIN:DAYLIGHT
TZOFFSETFROM:+0100
TZOFFSETTO:+0200
TZNAME:CEST
DTSTART:20250330T010000
END:DAYLIGHT
BEGIN:STANDARD
TZOFFSETFROM:+0200
TZOFFSETTO:+0100
TZNAME:CET
DTSTART:20251026T010000
END:STANDARD
BEGIN:DAYLIGHT
TZOFFSETFROM:+0100
TZOFFSETTO:+0200
TZNAME:CEST
DTSTART:20260329T010000
END:DAYLIGHT
BEGIN:STANDARD
TZOFFSETFROM:+0200
TZOFFSETTO:+0100
TZNAME:CET
DTSTART:20261025T010000
END:STANDARD
BEGIN:DAYLIGHT
TZOFFSETFROM:+0100
TZOFFSETTO:+0200
TZNAME:CEST
DTSTART:20270328T010000
END:DAYLIGHT
BEGIN:STANDARD
TZOFFSETFROM:+0200
TZOFFSETTO:+0100
TZNAME:CET
DTSTART:20271031T010000
END:STANDARD
END:VTIMEZONE
BEGIN:VEVENT
DTSTART;TZID=Europe/Berlin:20260325T183000
DTEND;TZID=Europe/Berlin:20260325T200000
DTSTAMP:20260419T141239
CREATED:20260313T180545Z
LAST-MODIFIED:20260313T180545Z
UID:10003446-1774463400-1774468800@familienportal-bamberg.de
SUMMARY:Online: Online-Elternabend: Selbstfürsorge und Resilienz im Familienalltag
DESCRIPTION:Die Stadt Bamberg lädt gemeinsam mit Gesundheitsamt Bamberg und Gesundheitsregionplus herzlich zum Online-Elternabend ein: \nZwischen Beruf\, Organisation und emotionaler Begleitung bleibt oft wenig Zeit für sich selbst. Dieser Vortrag gibt praktische Impulse für Gelassenheit\, Selbstfürsorge und den Umgang mit Stress. \nReferentin: Tatjana Ohl\, Familienbeauftragte der Stadt Bamberg\nDer Teilnahme-Link ist unter www.klaerwerk-bamberg.de/veranstaltungen zu finden
URL:https://familienportal-bamberg.de/veranstaltungen/online-online-elternabend-selbstfuersorge-und-resilienz-im-familienalltag/
LOCATION:Online
CATEGORIES:Veranstaltungen & Termine
ATTACH;FMTTYPE=image/png:https://familienportal-bamberg.de/wp-content/uploads/2026/03/69b285ae22a42.png
END:VEVENT
END:VCALENDAR