BEGIN:VCALENDAR
VERSION:2.0
PRODID:-//Familienportal - ECPv6.15.20//NONSGML v1.0//EN
CALSCALE:GREGORIAN
METHOD:PUBLISH
X-WR-CALNAME:Familienportal
X-ORIGINAL-URL:https://familienportal-bamberg.de
X-WR-CALDESC:Veranstaltungen für Familienportal
REFRESH-INTERVAL;VALUE=DURATION:PT1H
X-Robots-Tag:noindex
X-PUBLISHED-TTL:PT1H
BEGIN:VTIMEZONE
TZID:Europe/Berlin
BEGIN:DAYLIGHT
TZOFFSETFROM:+0100
TZOFFSETTO:+0200
TZNAME:CEST
DTSTART:20250330T010000
END:DAYLIGHT
BEGIN:STANDARD
TZOFFSETFROM:+0200
TZOFFSETTO:+0100
TZNAME:CET
DTSTART:20251026T010000
END:STANDARD
BEGIN:DAYLIGHT
TZOFFSETFROM:+0100
TZOFFSETTO:+0200
TZNAME:CEST
DTSTART:20260329T010000
END:DAYLIGHT
BEGIN:STANDARD
TZOFFSETFROM:+0200
TZOFFSETTO:+0100
TZNAME:CET
DTSTART:20261025T010000
END:STANDARD
BEGIN:DAYLIGHT
TZOFFSETFROM:+0100
TZOFFSETTO:+0200
TZNAME:CEST
DTSTART:20270328T010000
END:DAYLIGHT
BEGIN:STANDARD
TZOFFSETFROM:+0200
TZOFFSETTO:+0100
TZNAME:CET
DTSTART:20271031T010000
END:STANDARD
END:VTIMEZONE
BEGIN:VEVENT
DTSTART;TZID=Europe/Berlin:20260504T103000
DTEND;TZID=Europe/Berlin:20260504T113000
DTSTAMP:20260424T105508
CREATED:20260418T061604Z
LAST-MODIFIED:20260418T061604Z
UID:10003528-1777890600-1777894200@familienportal-bamberg.de
SUMMARY:Bamberg: Erlebnistanz im Tivoli
DESCRIPTION:Gemeinsam oder solo\, wir tanzen nach Musik aus aller Welt. Mit schwungvollen und meditativen Schrittfolgen kommen wir in Bewegung und bringen Körper und Seele in Einklang. Für alle\, die Spaß am Tanzen haben. Benötigt werden hierzu nur gute Laune und bequeme\, feste Schuhe. \nAnmeldung erforderlich!\nTelefon: 0951 96439-147\nE-Mail: quartiersbuero.tivolischloesschen@sozialstiftung-bamberg.de
URL:https://familienportal-bamberg.de/veranstaltungen/bamberg-erlebnistanz-im-tivoli-2/2026-05-04/
LOCATION:Quartiersbüro am Tivolischlösschen\, Café Tivoli Aktiv\, Kloster-Langheim-Str. 3\, Bamberg\, 96050
CATEGORIES:Veranstaltungen & Termine
ATTACH;FMTTYPE=image/jpeg:https://familienportal-bamberg.de/wp-content/uploads/2026/03/69bd14e55e2dc-scaled.jpg
END:VEVENT
BEGIN:VEVENT
DTSTART;TZID=Europe/Berlin:20260518T103000
DTEND;TZID=Europe/Berlin:20260518T113000
DTSTAMP:20260424T105508
CREATED:20260418T061604Z
LAST-MODIFIED:20260418T061604Z
UID:10003529-1779100200-1779103800@familienportal-bamberg.de
SUMMARY:Bamberg: Erlebnistanz im Tivoli
DESCRIPTION:Gemeinsam oder solo\, wir tanzen nach Musik aus aller Welt. Mit schwungvollen und meditativen Schrittfolgen kommen wir in Bewegung und bringen Körper und Seele in Einklang. Für alle\, die Spaß am Tanzen haben. Benötigt werden hierzu nur gute Laune und bequeme\, feste Schuhe. \nAnmeldung erforderlich!\nTelefon: 0951 96439-147\nE-Mail: quartiersbuero.tivolischloesschen@sozialstiftung-bamberg.de
URL:https://familienportal-bamberg.de/veranstaltungen/bamberg-erlebnistanz-im-tivoli-2/2026-05-18/
LOCATION:Quartiersbüro am Tivolischlösschen\, Café Tivoli Aktiv\, Kloster-Langheim-Str. 3\, Bamberg\, 96050
CATEGORIES:Veranstaltungen & Termine
ATTACH;FMTTYPE=image/jpeg:https://familienportal-bamberg.de/wp-content/uploads/2026/03/69bd14e55e2dc-scaled.jpg
END:VEVENT
END:VCALENDAR