BEGIN:VCALENDAR
VERSION:2.0
PRODID:-//Familienportal - ECPv6.15.20//NONSGML v1.0//EN
CALSCALE:GREGORIAN
METHOD:PUBLISH
X-WR-CALNAME:Familienportal
X-ORIGINAL-URL:https://familienportal-bamberg.de
X-WR-CALDESC:Veranstaltungen für Familienportal
REFRESH-INTERVAL;VALUE=DURATION:PT1H
X-Robots-Tag:noindex
X-PUBLISHED-TTL:PT1H
BEGIN:VTIMEZONE
TZID:Europe/Berlin
BEGIN:DAYLIGHT
TZOFFSETFROM:+0100
TZOFFSETTO:+0200
TZNAME:CEST
DTSTART:20250330T010000
END:DAYLIGHT
BEGIN:STANDARD
TZOFFSETFROM:+0200
TZOFFSETTO:+0100
TZNAME:CET
DTSTART:20251026T010000
END:STANDARD
BEGIN:DAYLIGHT
TZOFFSETFROM:+0100
TZOFFSETTO:+0200
TZNAME:CEST
DTSTART:20260329T010000
END:DAYLIGHT
BEGIN:STANDARD
TZOFFSETFROM:+0200
TZOFFSETTO:+0100
TZNAME:CET
DTSTART:20261025T010000
END:STANDARD
BEGIN:DAYLIGHT
TZOFFSETFROM:+0100
TZOFFSETTO:+0200
TZNAME:CEST
DTSTART:20270328T010000
END:DAYLIGHT
BEGIN:STANDARD
TZOFFSETFROM:+0200
TZOFFSETTO:+0100
TZNAME:CET
DTSTART:20271031T010000
END:STANDARD
END:VTIMEZONE
BEGIN:VEVENT
DTSTART;TZID=Europe/Berlin:20260505T131500
DTEND;TZID=Europe/Berlin:20260505T134500
DTSTAMP:20260424T105513
CREATED:20260412T135028Z
LAST-MODIFIED:20260418T062345Z
UID:10003533-1777986900-1777988700@familienportal-bamberg.de
SUMMARY:Bamberg: Bewegungsübungen im Sitzen
DESCRIPTION:Sitzgymnastik ist das perfekte Bewegungsangebot für Menschen\, die auch im Alter beweglich bleiben möchten. Wie der Name schon sagt\, finden die meisten Übungen im Sitzen statt. Bleiben Sie auch im Alter fit und aktiv! Bitte vorher anmelden. \nAnmeldung erforderlich!\nTelefon: 0951 96439147\nE-Mail: quartiersbuero.tivolischloesschen@sozialstiftung-bamberg.de
URL:https://familienportal-bamberg.de/veranstaltungen/bamberg-bewegungsuebungen-im-sitzen-3/2026-05-05/
LOCATION:Quartiersbüro am Tivolischlösschen\, Tivoli Aktiv\, Kloster-Langheim-Str. 3\, Bamberg\, 96050
CATEGORIES:Veranstaltungen & Termine
ATTACH;FMTTYPE=image/jpeg:https://familienportal-bamberg.de/wp-content/uploads/2026/03/69bd18bd86316-scaled.jpg
END:VEVENT
END:VCALENDAR