BEGIN:VCALENDAR
VERSION:2.0
PRODID:-//Familienportal - ECPv6.15.20//NONSGML v1.0//EN
CALSCALE:GREGORIAN
METHOD:PUBLISH
X-ORIGINAL-URL:https://familienportal-bamberg.de
X-WR-CALDESC:Veranstaltungen für Familienportal
REFRESH-INTERVAL;VALUE=DURATION:PT1H
X-Robots-Tag:noindex
X-PUBLISHED-TTL:PT1H
BEGIN:VTIMEZONE
TZID:Europe/Berlin
BEGIN:DAYLIGHT
TZOFFSETFROM:+0100
TZOFFSETTO:+0200
TZNAME:CEST
DTSTART:20250330T010000
END:DAYLIGHT
BEGIN:STANDARD
TZOFFSETFROM:+0200
TZOFFSETTO:+0100
TZNAME:CET
DTSTART:20251026T010000
END:STANDARD
BEGIN:DAYLIGHT
TZOFFSETFROM:+0100
TZOFFSETTO:+0200
TZNAME:CEST
DTSTART:20260329T010000
END:DAYLIGHT
BEGIN:STANDARD
TZOFFSETFROM:+0200
TZOFFSETTO:+0100
TZNAME:CET
DTSTART:20261025T010000
END:STANDARD
BEGIN:DAYLIGHT
TZOFFSETFROM:+0100
TZOFFSETTO:+0200
TZNAME:CEST
DTSTART:20270328T010000
END:DAYLIGHT
BEGIN:STANDARD
TZOFFSETFROM:+0200
TZOFFSETTO:+0100
TZNAME:CET
DTSTART:20271031T010000
END:STANDARD
END:VTIMEZONE
BEGIN:VEVENT
DTSTART;TZID=Europe/Berlin:20260516T140000
DTEND;TZID=Europe/Berlin:20260516T170000
DTSTAMP:20260420T184510
CREATED:20260416T165219Z
LAST-MODIFIED:20260416T165219Z
UID:10003517-1778940000-1778950800@familienportal-bamberg.de
SUMMARY:Bamberg: Nachbarschaftsflohmarkt
DESCRIPTION:Rund um den frei-Raum am Babenbergerring 71 im Stadtteil Südwest findet am Samstag\, 16.05.2026 von 14.00 – 17.00 Uhr ein Nachbarschaftsflohmarkt statt. Ausgediente\, aber noch brauchbare Gegenstände erwerben\, beim Handeln mit anderen Menschen ins Gespräch kommen\, das ein oder andere nützliche Ding finden\, – das Alles ist möglich beim Nachbarschaftsflohmarkt für Alt und Jung. Außerdem gibt es Kaffee\, Getränke und Kuchen und dieses Jahr auch wieder eine Versteigerung. Um 16.00 Uhr kommen besondere Gegenstände unter den Hammer. Der Erlös aus der Versteigerung ist für die Stadtteilarbeit in Südwest.\nDer Flohmarkt ist nur für Privatverkäufer\, Standgebühren werden nicht erhoben.\nBildquelle: Anja Münzel
URL:https://familienportal-bamberg.de/veranstaltungen/bamberg-nachbarschaftsflohmarkt/
LOCATION:vor dem frei-Raum am Babenbergerring\, Babenbergerring 71\, Bamberg\, 96049
CATEGORIES:Basartermine
ATTACH;FMTTYPE=image/jpeg:https://familienportal-bamberg.de/wp-content/uploads/2026/04/69e0adbd264bf.jpg
END:VEVENT
END:VCALENDAR