BEGIN:VCALENDAR
VERSION:2.0
PRODID:-//Familienportal - ECPv6.15.20//NONSGML v1.0//EN
CALSCALE:GREGORIAN
METHOD:PUBLISH
X-WR-CALNAME:Familienportal
X-ORIGINAL-URL:https://familienportal-bamberg.de
X-WR-CALDESC:Veranstaltungen für Familienportal
REFRESH-INTERVAL;VALUE=DURATION:PT1H
X-Robots-Tag:noindex
X-PUBLISHED-TTL:PT1H
BEGIN:VTIMEZONE
TZID:Europe/Berlin
BEGIN:DAYLIGHT
TZOFFSETFROM:+0100
TZOFFSETTO:+0200
TZNAME:CEST
DTSTART:20250330T010000
END:DAYLIGHT
BEGIN:STANDARD
TZOFFSETFROM:+0200
TZOFFSETTO:+0100
TZNAME:CET
DTSTART:20251026T010000
END:STANDARD
BEGIN:DAYLIGHT
TZOFFSETFROM:+0100
TZOFFSETTO:+0200
TZNAME:CEST
DTSTART:20260329T010000
END:DAYLIGHT
BEGIN:STANDARD
TZOFFSETFROM:+0200
TZOFFSETTO:+0100
TZNAME:CET
DTSTART:20261025T010000
END:STANDARD
BEGIN:DAYLIGHT
TZOFFSETFROM:+0100
TZOFFSETTO:+0200
TZNAME:CEST
DTSTART:20270328T010000
END:DAYLIGHT
BEGIN:STANDARD
TZOFFSETFROM:+0200
TZOFFSETTO:+0100
TZNAME:CET
DTSTART:20271031T010000
END:STANDARD
END:VTIMEZONE
BEGIN:VEVENT
DTSTART;TZID=Europe/Berlin:20260415T143000
DTEND;TZID=Europe/Berlin:20260415T163000
DTSTAMP:20260420T151755
CREATED:20260413T142349Z
LAST-MODIFIED:20260413T142349Z
UID:10003508-1776263400-1776270600@familienportal-bamberg.de
SUMMARY:Bamberg: Frühlingssingen im Café Malta
DESCRIPTION:Die Malteser in Bamberg laden am Mittwoch\, den 15. April ins Café Malta ein. Der Nachmittag steht diesmal unter dem Motto „Wir singen den Frühling an“. Beginn ist um 14.30 Uhr im Ausbildungsraum (Gebäude 3) in der Moosstraße 69 in Bamberg\, das Ende ist gegen 16.30 Uhr vorgesehen. Das Café Malta bietet älteren Menschen in ruhiger und angenehmer Atmosphäre die Möglichkeit\, Gemeinschaft zu erleben. \nUm Anmeldungen unter der Telefonnummer 0151/6500 1900 wird gebeten!
URL:https://familienportal-bamberg.de/veranstaltungen/bamberg-fruehlingssingen-im-cafe-malta/
LOCATION:Café Malta\, Moosstraße 69\, Bamberg\, 96050
CATEGORIES:Veranstaltungen & Termine
ATTACH;FMTTYPE=image/jpeg:https://familienportal-bamberg.de/wp-content/uploads/2023/08/Veranstaltungen.jpg
END:VEVENT
END:VCALENDAR