BEGIN:VCALENDAR
VERSION:2.0
PRODID:-//Familienportal - ECPv6.15.20//NONSGML v1.0//EN
CALSCALE:GREGORIAN
METHOD:PUBLISH
X-ORIGINAL-URL:https://familienportal-bamberg.de
X-WR-CALDESC:Veranstaltungen für Familienportal
REFRESH-INTERVAL;VALUE=DURATION:PT1H
X-Robots-Tag:noindex
X-PUBLISHED-TTL:PT1H
BEGIN:VTIMEZONE
TZID:Europe/Berlin
BEGIN:DAYLIGHT
TZOFFSETFROM:+0100
TZOFFSETTO:+0200
TZNAME:CEST
DTSTART:20250330T010000
END:DAYLIGHT
BEGIN:STANDARD
TZOFFSETFROM:+0200
TZOFFSETTO:+0100
TZNAME:CET
DTSTART:20251026T010000
END:STANDARD
BEGIN:DAYLIGHT
TZOFFSETFROM:+0100
TZOFFSETTO:+0200
TZNAME:CEST
DTSTART:20260329T010000
END:DAYLIGHT
BEGIN:STANDARD
TZOFFSETFROM:+0200
TZOFFSETTO:+0100
TZNAME:CET
DTSTART:20261025T010000
END:STANDARD
BEGIN:DAYLIGHT
TZOFFSETFROM:+0100
TZOFFSETTO:+0200
TZNAME:CEST
DTSTART:20270328T010000
END:DAYLIGHT
BEGIN:STANDARD
TZOFFSETFROM:+0200
TZOFFSETTO:+0100
TZNAME:CET
DTSTART:20271031T010000
END:STANDARD
END:VTIMEZONE
BEGIN:VEVENT
DTSTART;TZID=Europe/Berlin:20260509T110000
DTEND;TZID=Europe/Berlin:20260509T150000
DTSTAMP:20260424T105518
CREATED:20260416T163514Z
LAST-MODIFIED:20260416T163514Z
UID:10003512-1778324400-1778338800@familienportal-bamberg.de
SUMMARY:Bamberg: Frühlingsfest Waldkindergarten Bamberg
DESCRIPTION:Die kleinen Waldschrate feiern ihr Frühlingsfest an ihrer Waldhütte. Es wird Essen und Getränke\, Mitmach- und Bastelstationen und weitere Überraschungen geben.\nAußerdem stehen wir interessierten Eltern gerne für Rückfragen zur Verfügung.\nWir laden alle Freunde und Interessierten herzlich ein\, gemeinsam mit uns zu feiern!\nBildquelle: Waldkindergarten Bamberg
URL:https://familienportal-bamberg.de/veranstaltungen/bamberg-fruehlingsfest-waldkindergarten-bamberg/
LOCATION:Hütte der Waldschrate\, Buger Str. 100\, Bamberg\, 96049
CATEGORIES:Veranstaltungen & Termine
ATTACH;FMTTYPE=image/png:https://familienportal-bamberg.de/wp-content/uploads/2026/04/69de9a4ded7c1.png
END:VEVENT
END:VCALENDAR